Workbook

Sheet سهام
C1: سرمایه گذاری اختصاصی بازارگردانی گوهرفام امید
C2: صورت وضعیت پورتفوی
B3: ارقام به ریال | C3: برای ماه منتهی به 1400/06/31
B4: نام شرکت | C4: 1400/05/31 | D4: 1397/08/30 | E4: 1397/08/30 | F4: تغییرات طی دوره | G4: تغییرات طی دوره | H4: تغییرات طی دوره | I4: تغییرات طی دوره | J4: 1400/06/31 | K4: 1397/09/30 | L4: 1397/09/30 | M4: 1397/09/30 | N4: 1397/09/30
C5: تعداد | D5: بهای تمام شده | E5: خالص ارزش فروش | F5: خرید طی دوره | G5: خرید طی دوره | H5: فروش طی دوره | I5: فروش طی دوره | J5: تعداد | K5: قیمت بازار | L5: بهای تمام شده | M5: خالص ارزش فروش | N5: درصد به کل دارایی‌های صندوق
C6: تعداد | D6: بهای تمام شده | E6: خالص ارزش فروش | F6: تعداد | G6: بهای تمام شده | H6: تعداد | I6: مبلغ فروش | J6: تعداد | K6: قیمت بازار | L6: بهای تمام شده | M6: خالص ارزش فروش | N6: درصد به کل دارایی‌های صندوق
B7: گروه مدیریت سرمایه گذاری امید | C7: 671287205 | D7: 8477721062659 | E7: 8.8609645e+12 | F7: 12161405 | G7: 161644008784 | H7: 1034000 | I7: 14685310804 | J7: 682414610 | K7: 12200 | L7: 8626304959333 | M7: 8319130893736 | N7: 0.8042
B8: سرمایه گذاری توسعه گوهران امید | C8: 107780594 | D8: 533990053437 | E8: 5.7424937e+11 | F8: 41198386 | G8: 60783653103 | H8: 1680002 | I8: 9557730720 | J8: 147298978 | K8: 5178 | L8: 737147473224 | M8: 762134445361 | N8: 0.0737
B9: مدیریت انرژی امید تابان هور | C9: 429757736 | D9: 825912151379 | E9: 6.8794865e+11 | F9: 103202506 | G9: 204578330701 | H9: 86255001 | I9: 163844615957 | J9: 446705241 | K9: 1586 | L9: 865017927003 | M9: 707936071596 | N9: 0.0684
B10: سیمان‌هرمزگان‌ | C10: 10399125 | D10: 231514563015 | E10: 1.9286107e+11 | F10: 585037 | G10: 11460139505 | H10: 375439 | I10: 7178729864 | J10: 10608723 | K10: 17850 | L10: 234641404453 | M10: 189221787613 | N10: 0.0183
B11: کویر تایر | C11: 986280 | D11: 14975593779 | E11: 1.6547056e+10 | F11: 4707564 | G11: 79026647578 | H11: 2492253 | I11: 41626215127 | J11: 3201591 | K11: 12970 | L11: 53512371649 | M11: 41493076547 | N11: 0.004
B12: بازرگانی و تولیدی مرجان کار | C12: 68984 | D12: 10020040053 | E12: 9.6047185e+09 | F12: 187932 | G12: 19364325345 | H12: 186310 | I12: 19734290004 | J12: 70606 | K12: 83598 | L12: 6209937951 | M12: 5898034472 | N12: 0.0006
B13: ح . س. توسعه گوهران امید | C13: 27883445 | D13: 108792852052 | E13: 1.0749257e+11 | F13: 5134887 | G13: 21926313641 | H13: 33018332 | I13: 10992079757 | J13: 0 | K13: 0 | L13: 0 | M13: 0 | N13: 0
B14: جمع | D14: =SUM(D7:D13) -> 10202926316374 | E14: =SUM(E7:E13) -> 1.0449668e+13 | G14: =SUM(G7:G13) -> 558783418657 | I14: =SUM(I7:I13) -> 267618972233 | L14: =SUM(L7:L13) -> 10522834073613 | M14: =SUM(M7:M13) -> 10025814309325 | N14: =SUM(N7:N13) -> 0.9692

Sheet تبعی
C1: سرمایه گذاری اختصاصی بازارگردانی گوهرفام امید
C2: صورت وضعیت پورتفوی
B3: ارقام به ریال | C3: =سهام!C3 -> برای ماه منتهی به 1400/06/31
B4: نام شرکت | C4: =سهام!C4 -> 1400/05/31 | D4: 1397/08/30 | E4: 1397/08/30 | F4: 1397/08/30 | G4: =سهام!J4 -> 1400/06/31 | H4: 1397/09/30 | I4: 1397/09/30 | J4: 1397/09/30
B5: نام شرکت | C5: تعداد اوراق تبعی | D5: قیمت اعمال | E5: تاریخ اعمال | F5: نرخ موثر | G5: تعداد اوراق تبعی | H5: قیمت اعمال | I5: تاریخ اعمال | J5: نرخ موثر
B6: - | C6: 0 | D6: 0 | E6: 0 | F6: 0 | G6: 0 | H6: 0 | I6: 0 | J6: 0

Sheet اوراق مشارکت
C1: سرمایه گذاری اختصاصی بازارگردانی گوهرفام امید
C2: صورت وضعیت پورتفوی
B3: ارقام به ریال | C3: =سهام!C3 -> برای ماه منتهی به 1400/06/31
B4: اطلاعات اوراق بهادار با درآمد ثابت | C4: اطلاعات اوراق بهادار با درآمد ثابت | D4: اطلاعات اوراق بهادار با درآمد ثابت | E4: اطلاعات اوراق بهادار با درآمد ثابت | F4: اطلاعات اوراق بهادار با درآمد ثابت | G4: اطلاعات اوراق بهادار با درآمد ثابت | H4: اطلاعات اوراق بهادار با درآمد ثابت | I4: =سهام!C4 -> 1400/05/31 | J4: 1397/08/30 | K4: 1397/08/30 | L4: تغییرات طی دوره | M4: تغییرات طی دوره | N4: تغییرات طی دوره | O4: تغییرات طی دوره | P4: =سهام!J4 -> 1400/06/31 | Q4: 1397/09/30 | R4: 1397/09/30 | S4: 1397/09/30 | T4: 1397/09/30
B5: نام اوراق | C5: دارای مجوز از سازمان | D5: بورسی یا فرابورسی | E5: تاریخ انتشار | F5: تاریخ سر رسید | G5: نرخ سود | H5: نرخ موثر | I5: تعداد | J5: بهای تمام شده | K5: خالص ارزش فروش | L5: تعداد خرید طی دوره | M5: خرید طی دوره | N5: تعداد فروش طی دوره | O5: فروش طی دوره | P5: تعداد | Q5: قیمت بازار هر ورقه | R5: بهای تمام شده | S5: خالص ارزش فروش | T5: درصد به کل دارایی‌های صندوق
B6: نام اوراق | C6: دارای مجوز از سازمان | D6: بورسی یا فرابورسی | E6: تاریخ انتشار | F6: تاریخ سر رسید | G6: نرخ سود | H6: نرخ موثر | I6: تعداد | J6: بهای تمام شده | K6: ریال | L6: تعداد | M6: ریال | N6: تعداد | O6: ریال | P6: تعداد | Q6: ریال | R6: ریال | S6: ریال | T6: درصد به کل دارایی‌های صندوق
B7: - | C7: - | D7: - | E7: - | F7: - | G7: - | H7: - | I7: 0 | J7: 0 | K7: 0 | L7: 0 | M7: 0 | N7: 0 | O7: 0 | P7: 0 | Q7: 0 | R7: 0 | S7: 0 | T7: 0

Sheet  تعدیل قیمت 
C1: سرمایه گذاری اختصاصی بازارگردانی گوهرفام امید
C2: صورت وضعیت پورتفوی
B3: ارقام به ریال | C3: =سهام!C3 -> برای ماه منتهی به 1400/06/31
B4: نام شرکت | C4: =C3 -> برای ماه منتهی به 1400/06/31 | D4: 1397/09/30 | E4: 1397/09/30 | F4: 1397/09/30 | G4: 1397/09/30 | H4: 1397/09/30
B5: نام شرکت | C5: تعداد | D5: قیمت پایانی | E5: مبلغ پس از تعدیل | F5: درصد تعدیل | G5: ارزش ناشی از تعدیل قیمت | H5: دلایل
B6: - | C6: 0 | D6: 0 | E6: 0 | F6: 0 | G6: 0 | H6: 0

Sheet گواهی سپرده 
C1: سرمایه گذاری اختصاصی بازارگردانی گوهرفام امید
C2: صورت وضعیت پورتفوی
B3: ارقام به ریال | C3: =سهام!C3 -> برای ماه منتهی به 1400/06/31
B4: اطلاعات اوراق گواهی سپرده | C4: اطلاعات اوراق گواهی سپرده | D4: اطلاعات اوراق گواهی سپرده | E4: اطلاعات اوراق گواهی سپرده | F4: اطلاعات اوراق گواهی سپرده | G4: =سهام!C4 -> 1400/05/31 | H4: 1397/08/30 | I4: 1397/08/30 | J4: تغییرات طی دوره | K4: تغییرات طی دوره | L4: تغییرات طی دوره | M4: تغییرات طی دوره | N4: =سهام!J4 -> 1400/06/31 | O4: 1397/09/30 | P4: 1397/09/30 | Q4: 1397/09/30
B5: سرمایه گذاری در اوراق گواهی سپرده بانکی | C5: تاریخ سر رسید | D5: نرخ سود | E5: نرخ فروش | F5: بورسی یا فرابورسی | G5: تعداد | H5: بهای تمام شده | I5: خالص ارزش فروش | J5: خرید طی دوره | K5: خرید طی دوره | L5: فروش طی دوره | M5: فروش طی دوره | N5: تعداد | O5: بهای تمام شده | P5: خالص ارزش فروش | Q5: درصد به کل دارایی‌ها
B6: سرمایه گذاری در اوراق گواهی سپرده بانکی | C6: تاریخ سر رسید | D6: نرخ سود | E6: نرخ فروش | F6: بورسی یا فرابورسی | G6: تعداد | H6: بهای تمام شده | I6: خالص ارزش فروش | J6: تعداد | K6: بهای تمام شده | L6: تعداد | M6: مبلغ فروش | N6: تعداد | O6: بهای تمام شده | P6: خالص ارزش فروش | Q6: درصد به کل دارایی‌ها
B7: - | C7: - | D7: 0 | E7: 0 | F7: - | G7: 0 | H7: 0 | I7: 0 | J7: 0 | K7: 0 | L7: 0 | M7: 0 | N7: 0 | O7: 0 | P7: 0 | Q7: 0

Sheet سپرده 
C1: سرمایه گذاری اختصاصی بازارگردانی گوهرفام امید
C2: صورت وضعیت پورتفوی
B3: ارقام به ریال | C3: =سهام!C3 -> برای ماه منتهی به 1400/06/31
B4: سپرده | C4: مشخصات حساب بانکی | D4: مشخصات حساب بانکی | E4: مشخصات حساب بانکی | F4: مشخصات حساب بانکی | G4: =سهام!C4 -> 1400/05/31 | H4: تغییرات طی دوره | I4: تغییرات طی دوره | J4: =سهام!J4 -> 1400/06/31 | K4: 1397/09/30
B5: سپرده | C5: شماره حساب | D5: نوع حساب | E5: تاریخ افتتاح | F5: نرخ سود | G5: مبلغ | H5: افزایش | I5: کاهش | J5: مبلغ | K5: درصد به کل دارایی‌ها
B6: بانک سپه میرداماد غربی | C6: 3130008552780 | D6: سپرده کوتاه مدت | E6: 1400/01/31 | F6: 10 | G6: 27432501676 | H6: 95068619107 | I6: 107450357865 | J6: 15050762918 | K6: 0.0015
B7: بانک سپه میرداماد غربی | C7: 1349301287911 | D7: سپرده کوتاه مدت | E7: 1400/01/31 | F7: 10 | G7: 162807581468 | H7: 14222997416 | I7: 167586093605 | J7: 9444485279 | K7: 0.0009
B8: بانک سپه میرداماد غربی | C8: 3130008603246 | D8: سپرده کوتاه مدت | E8: 1400/02/01 | F8: 10 | G8: 13968744462 | H8: 199645005664 | I8: 213350029065 | J8: 263721061 | K8: 0.0006
B9: بانک سپه میرداماد غربی | C9: 3130008605868 | D9: سپرده کوتاه مدت | E9: 1397/08/21 | F9: 10 | G9: 28003560948 | H9: 53022905896 | I9: 79045326716 | J9: 1981140128 | K9: 0.0002
B10: بانک سپه میرداماد غربی | C10: 3130008670248 | D10: سپرده کوتاه مدت | E10: 1400/02/01 | F10: 10 | G10: 2056105807 | H10: 8950269474 | I10: 9697310764 | J10: 1309064517 | K10: 0.0001
B11: بانک سپه میرداماد غربی | C11: 3130008670341 | D11: سپرده کوتاه مدت | E11: 1400/02/01 | F11: 10 | G11: 437809251 | H11: 17138150530 | I11: 11059523949 | J11: 6516435832 | K11: 0
B12: توسعه صادرات ایران بلوار کشاورز | C12: 0200048775001 | D12: سپرده کوتاه مدت | E12: 1398/07/20 | F12: 10 | G12: 268665 | H12: 0 | I12: 0 | J12: 268665 | K12: 0
B13: جمع | G13: =SUM(G6:G12) -> 234706572277 | H13: =SUM(H6:H12) -> 388047948087 | I13: =SUM(I6:I12) -> 588188641964 | J13: =SUM(J6:J12) -> 34565878400 | K13: =SUM(K6:K12) -> 0.0033

Sheet سود اوراق بهادار و سپرده بانکی 
B1: سرمایه گذاری اختصاصی بازارگردانی گوهرفام امید
B2: صورت وضعیت درآمدها
B3: =سهام!C3 -> برای ماه منتهی به 1400/06/31
B4: ارقام به ریال
B5: مشخصات | C5: مشخصات | D5: مشخصات | E5: مشخصات | F5: طی ماه | G5: طی ماه | H5: طی ماه | I5: از ابتدای سال مالی تا پایان ماه | J5: از ابتدای سال مالی تا پایان ماه | K5: از ابتدای سال مالی تا پایان ماه
B6: توضیحات | C6: تاریخ دریافت سود | D6: تاریخ سر رسید | E6: نرخ سود | F6: درآمد سود | G6: هزینه تنزیل | H6: خالص درآمد | I6: درآمد سود | J6: هزینه تنزیل | K6: خالص درآمد
B7: بانک سپه میرداماد غربی | C7: 1 | D7: 1 | E7: 10 | F7: 3812068 | G7: 0 | H7: =F7 -> 3812068 | I7: 3812068 | J7: 0 | K7: 3812068
B8: بانک سپه میرداماد غربی | C8: 31 | D8: 31 | E8: 10 | F8: 89192285 | G8: 0 | H8: =F8 -> 89192285 | I8: 89192285 | J8: 0 | K8: 89192285
B9: بانک سپه میرداماد غربی | C9: 31 | D9: 31 | E9: 10 | F9: 1517742 | G9: 0 | H9: =F9 -> 1517742 | I9: 1517742 | J9: 0 | K9: 1517742
B10: بانک سپه میرداماد غربی | C10: 1 | D10: 1 | E10: 10 | F10: 18484604 | G10: 0 | H10: =F10 -> 18484604 | I10: 18484604 | J10: 0 | K10: 18484604
B11: بانک سپه میرداماد غربی | C11: 1 | D11: 1 | E11: 10 | F11: 6600380 | G11: 0 | H11: =F11 -> 6600380 | I11: 6600380 | J11: 0 | K11: 6600380
B12: بانک سپه میرداماد غربی | C12: 1 | D12: 1 | E12: 10 | F12: 3687425 | G12: 0 | H12: =F12 -> 3687425 | I12: 3687425 | J12: 0 | K12: 3687425
B13: جمع | F13: =SUM(F7:F12) -> 123294504 | G13: 0 | H13: =SUM(H7:H12) -> 123294504 | I13: =SUM(I7:I12) -> 123294504 | J13: =SUM(J7:J12) -> 0 | K13: =SUM(K7:K12) -> 123294504

Sheet درآمد سود سهام 
C1: سرمایه گذاری اختصاصی بازارگردانی گوهرفام امید
C2: صورت وضعیت درآمدها
B3: ارقام به ریال | C3: =سهام!C3 -> برای ماه منتهی به 1400/06/31
B4: نام شرکت | C4: اطلاعات مجمع | D4: اطلاعات مجمع | E4: اطلاعات مجمع | F4: طی ماه | G4: طی ماه | H4: طی ماه | I4: از ابتدای سال مالی تا پایان ماه | J4: از ابتدای سال مالی تا پایان ماه | K4: از ابتدای سال مالی تا پایان ماه
B5: نام شرکت | C5: تاریخ مجمع | D5: تعداد سهام متعلقه در زمان مجمع | E5: سود متعلق به هر سهم | F5: جمع درآمد سود سهام | G5: هزینه تنزیل | H5: خالص درآمد سود سهام | I5: جمع درآمد سود سهام | J5: هزینه تنزیل | K5: خالص درآمد سود سهام
B6: - | C6: - | D6: - | E6: - | F6: 0 | G6: 0 | H6: 0 | I6: 0 | J6: 0 | K6: 0
B7: جمع | F7: =SUM(F6:F6) -> 0 | G7: =SUM(G6:G6) -> 0 | H7: =SUM(H6:H6) -> 0 | I7: =SUM(I6:I6) -> 0 | J7: =SUM(J6:J6) -> 0 | K7: =SUM(K6:K6) -> 0

Sheet درآمد ناشی از تغییر قیمت اوراق 
B1: سرمایه گذاری اختصاصی بازارگردانی گوهرفام امید
B2: صورت وضعیت درآمدها
B3: =سهام!C3 -> برای ماه منتهی به 1400/06/31
B4: ارقام به ریال
B5: نام شرکت | C5: طی ماه | D5: طی ماه | E5: طی ماه | F5: طی ماه | G5: از ابتدای سال مالی تا پایان ماه | H5: از ابتدای سال مالی تا پایان ماه | I5: از ابتدای سال مالی تا پایان ماه | J5: از ابتدای سال مالی تا پایان ماه
B6: نام شرکت | C6: تعداد | D6: خالص ارزش فروش | E6: ارزش دفتری | F6: سود و زیان ناشی از تغییر قیمت | G6: تعداد | H6: خالص ارزش فروش | I6: ارزش دفتری | J6: سود و زیان ناشی از تغییر قیمت
B7: بازرگانی و تولیدی مرجان کار | C7: 70606 | D7: 5898034472 | E7: 6209463694 | F7: -311429221 | G7: 70606 | H7: 5898034472 | I7: 6209463694 | J7: -311429221
B8: سیمان‌هرمزگان‌ | C8: 10608723 | D8: 189221787613 | E8: 197349045136 | F8: -8127257522 | G8: 10608723 | H8: 189221787613 | I8: 197349045136 | J8: -8127257522
B9: کویر تایر | C9: 3201591 | D9: 41493076547 | E9: 53891883690 | F9: -12398807142 | G9: 3201591 | H9: 41493076547 | I9: 53891883690 | J9: -12398807142
B10: سرمایه گذاری توسعه گوهران امید | C10: 147298978 | D10: 762134445361 | E10: 776780156683 | F10: -14645711321 | G10: 147298978 | H10: 762134445361 | I10: 776780156683 | J10: -14645711321
B11: مدیریت انرژی امید تابان هور | C11: 446705241 | D11: 707936071596 | E11: 753549943483 | F11: -45613871886 | G11: 446705241 | H11: 707936071596 | I11: 753549943483 | J11: -45613871886
B12: گروه مدیریت سرمایه گذاری امید | C12: 682414610 | D12: 8319130893736 | E12: 9008959934010 | F12: -689829040273 | G12: 682414610 | H12: 8319130893736 | I12: 9008959934010 | J12: -689829040273
B13: جمع | D13: =SUM(D7:D12) -> 10025814309325 | E13: =SUM(E7:E12) -> 10796740426696 | F13: =SUM(F7:F12) -> -770926117365 | H13: =SUM(H7:H12) -> 10025814309325 | I13: =SUM(I7:I12) -> 10796740426696 | J13: =SUM(J7:J12) -> -770926117365

Sheet درآمد ناشی از فروش 
B1: سرمایه گذاری اختصاصی بازارگردانی گوهرفام امید
B2: صورت وضعیت درآمدها
B3: =سهام!C3 -> برای ماه منتهی به 1400/06/31
B4: ارقام به ریال
B5: نام شرکت | C5: طی ماه | D5: طی ماه | E5: طی ماه | F5: طی ماه | G5: از ابتدای سال مالی تا پایان ماه | H5: از ابتدای سال مالی تا پایان ماه | I5: از ابتدای سال مالی تا پایان ماه | J5: از ابتدای سال مالی تا پایان ماه
B6: نام شرکت | C6: تعداد | D6: خالص بهای فروش | E6: ارزش دفتری | F6: سود و زیان ناشی از فروش | G6: تعداد | H6: خالص ارزش فروش | I6: ارزش دفتری | J6: سود و زیان ناشی از فروش
B7: مدیریت انرژی امید تابان هور | C7: 86255001 | D7: 163844615957 | E7: 138977041651 | F7: 24867574306 | G7: 86255001 | H7: 163844615957 | I7: 138977041651 | J7: 24867574306
B8: گروه مدیریت سرمایه گذاری امید | C8: 1034000 | D8: 14685310804 | E8: 13648597800 | F8: 1036713004 | G8: 1034000 | H8: 14685310804 | I8: 13648597800 | J8: 1036713004
B9: سرمایه گذاری توسعه گوهران امید | C9: 1680002 | D9: 9557730720 | E9: 8951304678 | F9: 606426042 | G9: 1680002 | H9: 9557730720 | I9: 8951304678 | J9: 606426042
B10: سیمان‌هرمزگان‌ | C10: 375439 | D10: 7178729864 | E10: 6972168471 | F10: 206561393 | G10: 375439 | H10: 7178729864 | I10: 6972168471 | J10: 206561393
B11: کویر تایر | C11: 2492253 | D11: 41626215127 | E11: 41681819760 | F11: -55604633 | G11: 2492253 | H11: 41626215127 | I11: 41681819760 | J11: -55604633
B12: بازرگانی و تولیدی مرجان کار | C12: 186310 | D12: 19734290004 | E12: 22759580121 | F12: -3025290117 | G12: 186310 | H12: 19734290004 | I12: 22759580121 | J12: -3025290117
B13: ح . س. توسعه گوهران امید | C13: 33018332 | D13: 131332190264 | E13: 129418887959 | F13: 1913302305 | G13: 33018332 | H13: 131332190264 | I13: 129418887959 | J13: 1913302305
B14: جمع | D14: =SUM(D7:D13) -> 387959082740 | E14: =SUM(E7:E13) -> 362409400440 | F14: =SUM(F7:F13) -> 25549682300 | H14: =SUM(H7:H13) -> 387959082740 | I14: =SUM(I7:I13) -> 362409400440 | J14: =SUM(J7:J13) -> 25549682300

Sheet سرمایه‌گذاری در سهام 
C1: سرمایه گذاری اختصاصی بازارگردانی گوهرفام امید
C2: صورت وضعیت درآمدها
B3: ارقام به ریال | C3: =سهام!C3 -> برای ماه منتهی به 1400/06/31
B4: نام شرکت | C4: طی ماه | H4: از ابتدای سال مالی تا پایان ماه | I4: از ابتدای سال مالی تا پایان ماه | J4: از ابتدای سال مالی تا پایان ماه | K4: از ابتدای سال مالی تا پایان ماه | L4: از ابتدای سال مالی تا پایان ماه
B5: نام شرکت | C5: درآمد سود سهام | D5: درآمد تغییر ارزش | E5: درآمد فروش | F5: مبلغ کل درآمد حاصل از فروش و تغییر ارزش و سود سهام | G5: درصد از کل درآمدها | H5: درآمد سود سهام | I5: درآمد تغییر ارزش | J5: درآمد فروش | K5: مبلغ کل درآمد حاصل از فروش و تغییر ارزش و سود سهام | L5: درصد از کل درآمدها
B6: گروه مدیریت سرمایه گذاری امید | C6: 0 | D6: -689829040273 | E6: 1036713004 | F6: -688792327269 | G6: =F6/F13 -> 0.92408654 | H6: 0 | I6: -689829040273 | J6: 1036713004 | K6: -688792327269 | L6: =K6/K13 -> 0.92408654
B7: مدیریت انرژی امید تابان هور | C7: 0 | D7: -45613871886 | E7: 24867574306 | F7: -20746297580 | G7: =F7/F13 -> 0.027833316 | H7: 0 | I7: -45613871886 | J7: 24867574306 | K7: -20746297580 | L7: =K7/K13 -> 0.027833316
B8: سرمایه گذاری توسعه گوهران امید | C8: 0 | D8: -14645711321 | E8: 606426042 | F8: -14039285279 | G8: =F8/F13 -> 0.018835161 | H8: 0 | I8: -14645711321 | J8: 606426042 | K8: -14039285279 | L8: =K8/K13 -> 0.018835161
B9: کویر تایر | C9: 0 | D9: -12398807142 | E9: -55604633 | F9: -12454411775 | G9: =F9/F13 -> 0.016708889 | H9: 0 | I9: -12398807142 | J9: -55604633 | K9: -12454411775 | L9: =K9/K13 -> 0.016708889
B10: سیمان‌هرمزگان‌ | C10: 0 | D10: -8127257522 | E10: 206561393 | F10: -7920696129 | G10: =F10/F13 -> 0.010626438 | H10: 0 | I10: -8127257522 | J10: 206561393 | K10: -7920696129 | L10: =K10/K13 -> 0.010626438
B11: بازرگانی و تولیدی مرجان کار | C11: 0 | D11: -311429221 | E11: -3025290117 | F11: -3336719338 | G11: =F11/F13 -> 0.004476556 | H11: 0 | I11: -311429221 | J11: -3025290117 | K11: -3336719338 | L11: =K11/K13 -> 0.004476556
B12: ح . س. توسعه گوهران امید | C12: 0 | D12: 0 | E12: 1913302305 | F12: 1913302305 | G12: (0.3)% | H12: 0 | I12: 0 | J12: 1913302305 | K12: 1913302305 | L12: (0.3)%
B13: جمع کل | C13: =SUM(C6:C12) -> 0 | D13: =SUM(D6:D12) -> -770926117365 | E13: =SUM(E6:E12) -> 25549682300 | F13: =SUM(F6:F12) -> -745376435065 | G13: 1 | H13: =SUM(H6:H12) -> 0 | I13: =SUM(I6:I12) -> -770926117365 | J13: =SUM(J6:J12) -> 25549682300 | K13: =SUM(K6:K12) -> -745376435065 | L13: 1
B14: * با توجه به اینکه برآیند کلی عملیات زیانده بوده است، عایدی مثبت استخراج شده و سهم هر نماد از میزان کل زیان محاسبه شده است.

Sheet سرمایه‌گذاری در اوراق بهادار 
C1: سرمایه گذاری اختصاصی بازارگردانی گوهرفام امید
C2: صورت وضعیت درآمدها
B3: ارقام به ریال | C3: =سهام!C3 -> برای ماه منتهی به 1400/06/31
B4: توضیحات | C4: طی ماه | D4: طی ماه | E4: طی ماه | F4: طی ماه | G4: از ابتدای سال مالی تا پایان ماه | H4: از ابتدای سال مالی تا پایان ماه | I4: از ابتدای سال مالی تا پایان ماه | J4: از ابتدای سال مالی تا پایان ماه
B5: توضیحات | C5: درآمد سود اوراق | D5: درآمد تغییر ارزش | E5: درآمد فروش | F5: جمع | G5: درآمد سود اوراق | H5: درآمد تغییر ارزش | I5: درآمد فروش | J5: جمع
B6: - | C6: 0 | D6: 0 | E6: 0 | F6: 0 | G6: 0 | H6: 0 | I6: 0 | J6: 0
B7: جمع | C7: =SUM(C6:C6) -> 0 | D7: =SUM(D6:D6) -> 0 | E7: =SUM(E6:E6) -> 0 | F7: =SUM(F6:F6) -> 0 | G7: =SUM(G6:G6) -> 0 | H7: =SUM(H6:H6) -> 0 | I7: =SUM(I6:I6) -> 0 | J7: =SUM(J6:J6) -> 0

Sheet درآمد سپرده بانکی 
C1: سرمایه گذاری اختصاصی بازارگردانی گوهرفام امید
C2: صورت وضعیت درآمدها
B3: ارقام به ریال | C3: =سهام!C3 -> برای ماه منتهی به 1400/06/31
B4: نام سپرده بانکی | C4: نام سپرده بانکی | D4: طی ماه | E4: طی ماه | F4: از ابتدای سال مالی تا پایان ماه | G4: از ابتدای سال مالی تا پایان ماه | L4: میانگین
B5: نام سپرده | C5: شماره حساب | D5: سود سپرده بانکی و گواهی سپرده | E5: درصد سود به میانگین سپرده | F5: سود سپرده بانکی و گواهی سپرده | G5: درصد سود به میانگین سپرده | K5: ماه قبل
B6: بانک سپه میرداماد غربی | C6: 1349301287911 | D6: 3812068 | E6: 0 | F6: 3812068 | G6: =F6/M6 -> 4.5143245e-07 | K6: 5.6778134e+12 | L6: 2766568536423 | M6: =L6+K6 -> 8.4443819e+12
B7: بانک سپه میرداماد غربی | C7: 3130008552780 | D7: 89192285 | E7: =D7/L7 -> 0.00012157928 | F7: 89192285 | G7: =F7/M7 -> 2.2959212e-05 | K7: 3.1512005e+12 | L7: 7.3361418e+11 | M7: =L7+K7 -> 3.8848147e+12
B8: بانک سپه میرداماد غربی | C8: 3130008670248 | D8: 6600380 | E8: =D8/L8 -> 6.6033719e-05 | F8: 6600380 | G8: =F8/M8 -> 3.0533545e-06 | K8: 2.0617268e+12 | L8: 9.9954691e+10 | M8: =L8+K8 -> 2.1616815e+12
B9: بانک سپه میرداماد غربی | C9: 3130008603246 | D9: 1517742 | E9: =D9/L9 -> 1.9682556e-06 | F9: 1517742 | G9: =F9/M9 -> 4.6716669e-07 | K9: 2.477713e+12 | L9: 7.7111022e+11 | M9: =L9+K9 -> 3.2488232e+12
B10: بانک سپه میرداماد غربی | C10: 3130008605868 | D10: 18484604 | E10: =D10/L10 -> 5.2963957e-05 | F10: 18484604 | G10: =F10/M10 -> 6.7160432e-06 | K10: 2.4033023e+12 | L10: 3.4900346e+11 | M10: =L10+K10 -> 2.7523057e+12
B11: بانک سپه میرداماد غربی | C11: 3130008670341 | D11: 3687425 | E11: =D11/L11 -> 8.5167067e-05 | F11: 3687425 | G11: =F11/M11 -> 1.8141708e-06 | K11: 1.9892713e+12 | L11: 4.3296372e+10 | M11: =L11+K11 -> 2.0325677e+12
B12: جمع | D12: =SUM(D6:D11) -> 123294504 | E12: =SUM(E6:E11) -> 0.00032771228 | F12: =SUM(F6:F11) -> 123294504 | G12: 0

Sheet سایر درآمدها 
A1: سرمایه گذاری اختصاصی بازارگردانی گوهرفام امید
A2: صورت وضعیت درآمدها
A3: =سهام!C3 -> برای ماه منتهی به 1400/06/31
A4: ارقام به ریال
A5: سایر درآمدها | B5: طی ماه | C5: =سهام!J4 -> 1400/06/31
A6: سایر درآمدها | B6: مبلغ | C6: مبلغ
A7: سایر درآمدها | B7: 5896393090 | C7: 5896393090
A8: معین برای سایر درآمدهای تنزیل سود بانک | B8: 0 | C8: 0
A9: تعدیل کارمزد کارگزار | B9: 0 | C9: 0
A10: جمع | B10: =SUM(B7:B9) -> 5896393090 | C10: =SUM(C7:C9) -> 5896393090

Sheet جمع درآمدها
B1: سرمایه گذاری اختصاصی بازارگردانی گوهرفام امید
B2: صورت وضعیت درآمدها
B3: =سهام!C3 -> برای ماه منتهی به 1400/06/31
B4: ارقام به ریال
B5: توضیحات | C5: یادداشت | D5: مبلغ | E5: درصد به کل دارایی‌های صندوق
B6: سرمایه‌گذاری در سهام | C6: 2,1 | D6: -745376435065 | E6: =ABS(D6)/10251233931668 -> 0.072710899
B7: سرمایه‌گذاری در اوراق بهادار | C7: 2,2 | D7: 0 | E7: =ABS(D7)/10251233931668 -> 0
B8: درآمد سپرده بانکی | C8: 2,3 | D8: 123294504 | E8: =ABS(D8)/10251233931668 -> 1.2027284e-05
B9: جمع | D9: =SUM(D6:D8) -> -745253140561 | E9: =SUM(E6:E8) -> 0.072722926
B10: *مبلغ خالص دارایی ها در تاریخ افشای گزارش 10.251.233.931.668 ریال می باشد
